BEGIN:VCALENDAR
VERSION:2.0
PRODID:-//Kick Dance - ECPv6.15.20//NONSGML v1.0//EN
CALSCALE:GREGORIAN
METHOD:PUBLISH
X-WR-CALNAME:Kick Dance
X-ORIGINAL-URL:https://kickdance.com.au
X-WR-CALDESC:Events for Kick Dance
REFRESH-INTERVAL;VALUE=DURATION:PT1H
X-Robots-Tag:noindex
X-PUBLISHED-TTL:PT1H
BEGIN:VTIMEZONE
TZID:Australia/Melbourne
BEGIN:STANDARD
TZOFFSETFROM:+1100
TZOFFSETTO:+1000
TZNAME:AEST
DTSTART:20250405T160000
END:STANDARD
BEGIN:DAYLIGHT
TZOFFSETFROM:+1000
TZOFFSETTO:+1100
TZNAME:AEDT
DTSTART:20251004T160000
END:DAYLIGHT
BEGIN:STANDARD
TZOFFSETFROM:+1100
TZOFFSETTO:+1000
TZNAME:AEST
DTSTART:20260404T160000
END:STANDARD
BEGIN:DAYLIGHT
TZOFFSETFROM:+1000
TZOFFSETTO:+1100
TZNAME:AEDT
DTSTART:20261003T160000
END:DAYLIGHT
BEGIN:STANDARD
TZOFFSETFROM:+1100
TZOFFSETTO:+1000
TZNAME:AEST
DTSTART:20270403T160000
END:STANDARD
BEGIN:DAYLIGHT
TZOFFSETFROM:+1000
TZOFFSETTO:+1100
TZNAME:AEDT
DTSTART:20271002T160000
END:DAYLIGHT
END:VTIMEZONE
BEGIN:VEVENT
DTSTART;VALUE=DATE:20260912
DTEND;VALUE=DATE:20260914
DTSTAMP:20260424T002536
CREATED:20260421T131152Z
LAST-MODIFIED:20260421T131152Z
UID:9001-1789171200-1789343999@kickdance.com.au
SUMMARY:🌈 KICK MUSICAL: 'The Wizard of Oz Jnr'
DESCRIPTION:Tickets coming soon…
URL:https://kickdance.com.au/event/%f0%9f%8c%88-kick-musical-the-wizard-of-oz-jnr/
END:VEVENT
BEGIN:VEVENT
DTSTART;VALUE=DATE:20261010
DTEND;VALUE=DATE:20261011
DTSTAMP:20260424T002536
CREATED:20260421T125120Z
LAST-MODIFIED:20260421T131244Z
UID:8984-1791590400-1791676799@kickdance.com.au
SUMMARY:⭐️ CREATIVE MOVEMENT & TWINKLE STARS CONCERT
DESCRIPTION:Tickets coming soon…
URL:https://kickdance.com.au/event/%e2%ad%90%ef%b8%8f-creative-movement-twinkle-stars-concert/
END:VEVENT
BEGIN:VEVENT
DTSTART;VALUE=DATE:20261121
DTEND;VALUE=DATE:20261123
DTSTAMP:20260424T002536
CREATED:20260421T125245Z
LAST-MODIFIED:20260421T125939Z
UID:8986-1795219200-1795391999@kickdance.com.au
SUMMARY:DRESS REHEARSAL: Intermediate & Senior Concert
DESCRIPTION:Dress rehearsal will be held for items in Intermediate and Senior concert. \n  \nTimetable coming soon…
URL:https://kickdance.com.au/event/dress-rehearsal-intermediate-senior-concert/
END:VEVENT
BEGIN:VEVENT
DTSTART;VALUE=DATE:20261128
DTEND;VALUE=DATE:20261129
DTSTAMP:20260424T002536
CREATED:20260421T130724Z
LAST-MODIFIED:20260421T131442Z
UID:8995-1795824000-1795910399@kickdance.com.au
SUMMARY:⭐️ INTERMEDIATE CONCERTS
DESCRIPTION:Tickets coming soon… \nTIME: 11:00am & 3:00pm
URL:https://kickdance.com.au/event/%e2%ad%90%ef%b8%8f-intermediate-concert/
END:VEVENT
BEGIN:VEVENT
DTSTART;VALUE=DATE:20261129
DTEND;VALUE=DATE:20261130
DTSTAMP:20260424T002536
CREATED:20260421T125811Z
LAST-MODIFIED:20260421T125811Z
UID:8989-1795910400-1795996799@kickdance.com.au
SUMMARY:⭐️ JUNIOR CONCERT
DESCRIPTION:Tickets coming soon…
URL:https://kickdance.com.au/event/%e2%ad%90%ef%b8%8f-junior-concert-2/
END:VEVENT
BEGIN:VEVENT
DTSTART;VALUE=DATE:20261205
DTEND;VALUE=DATE:20261206
DTSTAMP:20260424T002536
CREATED:20260421T131034Z
LAST-MODIFIED:20260421T131034Z
UID:8999-1796428800-1796515199@kickdance.com.au
SUMMARY:⭐️ SENIOR CONCERT
DESCRIPTION:Tickets coming soon… \nTIME: 1:00pm & 6:00pm
URL:https://kickdance.com.au/event/%e2%ad%90%ef%b8%8f-senior-concert/
END:VEVENT
END:VCALENDAR